BEGIN:VCALENDAR
VERSION:2.0
PRODID:-//Visual Artists Association - ECPv6.15.17.1//NONSGML v1.0//EN
CALSCALE:GREGORIAN
METHOD:PUBLISH
X-WR-CALNAME:Visual Artists Association
X-ORIGINAL-URL:https://visual-artists.org
X-WR-CALDESC:Events for Visual Artists Association
REFRESH-INTERVAL;VALUE=DURATION:PT1H
X-Robots-Tag:noindex
X-PUBLISHED-TTL:PT1H
BEGIN:VTIMEZONE
TZID:Europe/London
BEGIN:DAYLIGHT
TZOFFSETFROM:+0000
TZOFFSETTO:+0100
TZNAME:BST
DTSTART:20250330T010000
END:DAYLIGHT
BEGIN:STANDARD
TZOFFSETFROM:+0100
TZOFFSETTO:+0000
TZNAME:GMT
DTSTART:20251026T010000
END:STANDARD
BEGIN:DAYLIGHT
TZOFFSETFROM:+0000
TZOFFSETTO:+0100
TZNAME:BST
DTSTART:20260329T010000
END:DAYLIGHT
BEGIN:STANDARD
TZOFFSETFROM:+0100
TZOFFSETTO:+0000
TZNAME:GMT
DTSTART:20261025T010000
END:STANDARD
BEGIN:DAYLIGHT
TZOFFSETFROM:+0000
TZOFFSETTO:+0100
TZNAME:BST
DTSTART:20270328T010000
END:DAYLIGHT
BEGIN:STANDARD
TZOFFSETFROM:+0100
TZOFFSETTO:+0000
TZNAME:GMT
DTSTART:20271031T010000
END:STANDARD
END:VTIMEZONE
BEGIN:VEVENT
DTSTART;TZID=Europe/London:20260608T130000
DTEND;TZID=Europe/London:20260608T140000
DTSTAMP:20260422T155108
CREATED:20260223T184938Z
LAST-MODIFIED:20260223T184938Z
UID:10005223-1780923600-1780927200@visual-artists.org
SUMMARY:VAA Members Meeting
DESCRIPTION:VAA Members Meeting: Highlight on VAA Benefits\nMonday 8th June\, 13:00 GMT | Online\nBeing a VAA member means having access to a wealth of resources\, opportunities\, and support – and this Members Meeting is your chance to make sure you’re making the most of all of it. \nThis session is dedicated entirely to you and your membership. The VAA team will walk you through the key benefits available to you right now\, shine a light on resources you may not yet have explored\, and share the latest updates on what’s coming up across the VAA programme. \nWhether you are a new member finding your feet or a long-standing member looking to get more from your membership\, this is a valuable hour to set aside. \nThe session will cover: \n\nA full overview of your VAA member benefits and how to access them\nKey resources\, tools\, and opportunities available to you\nUpcoming events\, courses\, and programmes to add to your diary\nYour questions answered – bring anything you’d like to ask the team\n\nThis is also a wonderful opportunity to connect with the VAA team directly\, share your feedback\, and let us know what would be most useful to you going forward. \nThis session is exclusively for VAA members. If you are not yet a member and would like to join the VAA community and access the full events calendar and member benefits\, you can sign up today here: https://visual-artists.org/join/  \nFor any questions\, feel free to contact us at events@visual-artists.org
URL:https://visual-artists.org/event/vaa-members-meeting-2/
LOCATION:online
CATEGORIES:Member Events,Members Meetings
ATTACH;FMTTYPE=image/png:https://visual-artists.org/wp-content/uploads/2026/02/Members-Meeting-scaled.png
END:VEVENT
END:VCALENDAR