BEGIN:VCALENDAR
VERSION:2.0
PRODID:-//Visual Artists Association - ECPv6.15.17.1//NONSGML v1.0//EN
CALSCALE:GREGORIAN
METHOD:PUBLISH
X-WR-CALNAME:Visual Artists Association
X-ORIGINAL-URL:https://visual-artists.org
X-WR-CALDESC:Events for Visual Artists Association
REFRESH-INTERVAL;VALUE=DURATION:PT1H
X-Robots-Tag:noindex
X-PUBLISHED-TTL:PT1H
BEGIN:VTIMEZONE
TZID:Europe/London
BEGIN:DAYLIGHT
TZOFFSETFROM:+0000
TZOFFSETTO:+0100
TZNAME:BST
DTSTART:20250330T010000
END:DAYLIGHT
BEGIN:STANDARD
TZOFFSETFROM:+0100
TZOFFSETTO:+0000
TZNAME:GMT
DTSTART:20251026T010000
END:STANDARD
BEGIN:DAYLIGHT
TZOFFSETFROM:+0000
TZOFFSETTO:+0100
TZNAME:BST
DTSTART:20260329T010000
END:DAYLIGHT
BEGIN:STANDARD
TZOFFSETFROM:+0100
TZOFFSETTO:+0000
TZNAME:GMT
DTSTART:20261025T010000
END:STANDARD
BEGIN:DAYLIGHT
TZOFFSETFROM:+0000
TZOFFSETTO:+0100
TZNAME:BST
DTSTART:20270328T010000
END:DAYLIGHT
BEGIN:STANDARD
TZOFFSETFROM:+0100
TZOFFSETTO:+0000
TZNAME:GMT
DTSTART:20271031T010000
END:STANDARD
END:VTIMEZONE
BEGIN:VEVENT
DTSTART;TZID=Europe/London:20260305T130000
DTEND;TZID=Europe/London:20260305T140000
DTSTAMP:20260420T142506
CREATED:20251211T102536Z
LAST-MODIFIED:20251211T102536Z
UID:10005189-1772715600-1772719200@visual-artists.org
SUMMARY:VAA Virtual Artist Studio Visit: Anikó Boda
DESCRIPTION:5th March\, 13:00 – 14:00 UK time | Online via Zoom \nStep inside the studio of award-winning artist Anikó Boda for an intimate behind-the-scenes session exploring the creative habits\, working rhythms\, and inner world that shape her practice. Known for her innovative approach to trompe l’oeil and fresco-inspired surfaces\, Anikó’s work merges classical technique with a contemporary edge\, earning international recognition from MEAM Barcelona\, the ARC Salon\, Fine Art Connoisseur\, and the VAA International Exhibition & Scholarship Prize. \nIn this live virtual studio visit\, Anikó will open the doors to her creative environment – sharing how she structures her days\, prepares for new work\, sustains momentum through long projects\, and balances experimentation with routine. We’ll explore the objects\, tools\, and quiet rituals that support her process\, as well as the unseen challenges and unexpected inspirations that influence her philosophical and psychologically attuned artworks. \nThis session offers early-career and established artists alike a rare chance to learn how a working artist maintains focus\, nurtures discipline\, and cultivates creative energy day after day. The event will conclude with a message of guidance from Anikó for artists developing their own practice and studio life. \nThis is a free event for VAA Members as part of their membership benefits.If you would like to join the VAA and access events like this\, visit: https://visual-artists.org/join/ \nFor any questions\, feel free to contact us at events@visual-artists.org.
URL:https://visual-artists.org/event/vaa-virtual-artist-studio-visit-aniko-boda/
LOCATION:online
CATEGORIES:Events,members,Member Events
ATTACH;FMTTYPE=image/png:https://visual-artists.org/wp-content/uploads/2025/12/Virtual-Artist-Studio-Visit.png
END:VEVENT
END:VCALENDAR