BEGIN:VCALENDAR
VERSION:2.0
PRODID:-//Visual Artists Association - ECPv6.15.17.1//NONSGML v1.0//EN
CALSCALE:GREGORIAN
METHOD:PUBLISH
X-ORIGINAL-URL:https://visual-artists.org
X-WR-CALDESC:Events for Visual Artists Association
REFRESH-INTERVAL;VALUE=DURATION:PT1H
X-Robots-Tag:noindex
X-PUBLISHED-TTL:PT1H
BEGIN:VTIMEZONE
TZID:Europe/London
BEGIN:DAYLIGHT
TZOFFSETFROM:+0000
TZOFFSETTO:+0100
TZNAME:BST
DTSTART:20250330T010000
END:DAYLIGHT
BEGIN:STANDARD
TZOFFSETFROM:+0100
TZOFFSETTO:+0000
TZNAME:GMT
DTSTART:20251026T010000
END:STANDARD
BEGIN:DAYLIGHT
TZOFFSETFROM:+0000
TZOFFSETTO:+0100
TZNAME:BST
DTSTART:20260329T010000
END:DAYLIGHT
BEGIN:STANDARD
TZOFFSETFROM:+0100
TZOFFSETTO:+0000
TZNAME:GMT
DTSTART:20261025T010000
END:STANDARD
BEGIN:DAYLIGHT
TZOFFSETFROM:+0000
TZOFFSETTO:+0100
TZNAME:BST
DTSTART:20270328T010000
END:DAYLIGHT
BEGIN:STANDARD
TZOFFSETFROM:+0100
TZOFFSETTO:+0000
TZNAME:GMT
DTSTART:20271031T010000
END:STANDARD
END:VTIMEZONE
BEGIN:VEVENT
DTSTART;TZID=Europe/London:20260423T130000
DTEND;TZID=Europe/London:20260423T140000
DTSTAMP:20260419T144414
CREATED:20260223T153829Z
LAST-MODIFIED:20260223T174334Z
UID:10005219-1776949200-1776952800@visual-artists.org
SUMMARY:Legal Hour: Copyright and Intellectual Property
DESCRIPTION:Legal Hour: Copyright and Intellectual Property\nThursday 23rd April\, from 13:00 BST (UK time) | Online\nCopyright is one of the most misunderstood areas of law for working artists and one of the most important. \nThis Legal Hour session focuses entirely on copyright and intellectual property\, giving artists a dedicated space to ask the questions that come up again and again in practice: who owns the rights to a commissioned piece\, what happens when someone reproduces your work without permission\, and what you can actually do about it. \nPierre Valentin returns to guide the conversation\, drawing on decades of experience advising artists\, galleries\, and institutions on copyright matters across the UK and internationally. \nArtists are invited to ask about topics such as: \n\nWho owns the copyright when you create a commissioned work\nWhat rights you retain when you sell an original piece\nHow to protect your work from unauthorised reproduction online\nWhat to do if someone uses your image\, design\, or artwork without permission\nHow licensing works and what terms to look out for The difference between copyright\, moral rights\, and resale rights\n\nThis session is designed for visual artists at all career stages – whether you work on commission\, sell through galleries\, license your work commercially\, or share it online. \nGuest Speaker Pierre Valentin – Art Lawyer Pierre is one of the most respected art lawyers practising today and a leading figure in art and cultural property law. With over 25 years of experience\, he has advised collectors\, galleries\, artists\, museums\, auction houses\, private banks\, and institutions across the UK\, Europe\, the USA\, the Middle East and Asia. A specialist in copyright and resale rights\, and an accredited mediator for the World Intellectual Property Organisation\, Pierre is widely recognised as a “go-to lawyer” in the global art market\, praised for his expertise\, clarity and strategic approach. \nThe session will be recorded and a replay link will be shared with everyone who signs up. If you would like to submit a question in advance\, please email events@visual-artists.org with the subject line Legal Hour Question. \nThis session is exclusive to all VAA Members. Booking is essential. If you experience any issues\, please contact events@visual-artists.org \nTo join the Visual Artists Association\, visit: https://visual-artists.org/join
URL:https://visual-artists.org/event/legal-hour-copyright-and-intellectual-property/
LOCATION:online
CATEGORIES:Events,Member Events
ATTACH;FMTTYPE=image/png:https://visual-artists.org/wp-content/uploads/2026/02/Legal-Hour-Copyright-and-Intellectual-Property-1-scaled.png
END:VEVENT
BEGIN:VEVENT
DTSTART;TZID=Europe/London:20260429T130000
DTEND;TZID=Europe/London:20260429T140000
DTSTAMP:20260419T144414
CREATED:20260408T120612Z
LAST-MODIFIED:20260408T120612Z
UID:10005226-1777467600-1777471200@visual-artists.org
SUMMARY:Portfolio Review Taster - Free Webinar
DESCRIPTION:Portfolio Review Taster with Karen van Hoey Smith & Louise Minnaar \n29th April 2026 | 13:00 BST | Online via Zoom | 45 minutes \nEver wondered what actually happens in a professional portfolio review and whether yours is ready? Join artist mentor Karen van Hoey Smith for a free taster session that lifts the lid on the portfolio review process and gives you practical\, honest insight into what makes a portfolio stand out. Whether you are just starting to put your portfolio together or have been showing your work for years\, this session will give you a clearer picture of where you are and what to focus on next. \nWhat the session covers: \n\nBefore and after – a real example of how an artist’s portfolio transformed through the review process\, giving you a tangible sense of what is possible.\nTop tips for a great portfolio – the key things collectors\, galleries\, and industry professionals are actually looking for.\nQ&A – bring your questions and get honest\, expert answers.\n\nFree giveaway All attendees will receive a portfolio audit checklist\, a practical tool to help you assess and improve your own portfolio at your own pace. \nThis session is for you if: \n\nYou want to understand what a portfolio review involves before committing to one.\nYou are not sure if your portfolio is working as hard as it should.\nYou want honest\, expert guidance in a relaxed\, no-pressure environment.\n\nDate: 29th April 2026 Time: 13:00 BST Duration: 45 minutes Location: Online via Zoom Cost: Free
URL:https://visual-artists.org/event/portfolio-review-taster-free-webinar/
LOCATION:online
CATEGORIES:Events,Taster Session | Creative Courses
ATTACH;FMTTYPE=image/jpeg:https://visual-artists.org/wp-content/uploads/2026/04/Portfolio-Review-.jpg
END:VEVENT
END:VCALENDAR