BEGIN:VCALENDAR
VERSION:2.0
PRODID:-//Visual Artists Association - ECPv6.15.17.1//NONSGML v1.0//EN
CALSCALE:GREGORIAN
METHOD:PUBLISH
X-WR-CALNAME:Visual Artists Association
X-ORIGINAL-URL:https://visual-artists.org
X-WR-CALDESC:Events for Visual Artists Association
REFRESH-INTERVAL;VALUE=DURATION:PT1H
X-Robots-Tag:noindex
X-PUBLISHED-TTL:PT1H
BEGIN:VTIMEZONE
TZID:Europe/London
BEGIN:DAYLIGHT
TZOFFSETFROM:+0000
TZOFFSETTO:+0100
TZNAME:BST
DTSTART:20250330T010000
END:DAYLIGHT
BEGIN:STANDARD
TZOFFSETFROM:+0100
TZOFFSETTO:+0000
TZNAME:GMT
DTSTART:20251026T010000
END:STANDARD
BEGIN:DAYLIGHT
TZOFFSETFROM:+0000
TZOFFSETTO:+0100
TZNAME:BST
DTSTART:20260329T010000
END:DAYLIGHT
BEGIN:STANDARD
TZOFFSETFROM:+0100
TZOFFSETTO:+0000
TZNAME:GMT
DTSTART:20261025T010000
END:STANDARD
BEGIN:DAYLIGHT
TZOFFSETFROM:+0000
TZOFFSETTO:+0100
TZNAME:BST
DTSTART:20270328T010000
END:DAYLIGHT
BEGIN:STANDARD
TZOFFSETFROM:+0100
TZOFFSETTO:+0000
TZNAME:GMT
DTSTART:20271031T010000
END:STANDARD
END:VTIMEZONE
BEGIN:VEVENT
DTSTART;TZID=Europe/London:20260928T130000
DTEND;TZID=Europe/London:20260928T140000
DTSTAMP:20260423T131327
CREATED:20260420T130144Z
LAST-MODIFIED:20260420T130705Z
UID:10005228-1790600400-1790604000@visual-artists.org
SUMMARY:Masterclass: The Artist Guide to Video Marketing
DESCRIPTION:VAA Masterclass: The Artist Guide to Video Marketing \n28th September | 13:00 UK Time | Online \nVideo is one of the most powerful tools an artist can use to share their work\, grow an audience and build real connections online. But knowing where to start is the hard part. \nThis masterclass brings together VAA Director Shirley-Ann O’Neill and social media strategist Alex McCann to walk you through exactly how to use video to market your art practice\, without it feeling overwhelming. \nWho is it for? This session is ideal if you are an artist who knows you should be doing more with video but are not sure how\, or if you have dabbled with Reels and Stories but want a clearer strategy behind what you are doing. \nWhat you will learn: \n\nWhat kinds of video actually work for artists on social media\nHow to shoot simple\, effective content without expensive kit\nHow to plan your video content so it feels manageable\nHow to use video to grow your following and reach new collectors and opportunities\nHow to present yourself and your work confidently on camera\n\n  \nYour speakers: \nShirley-Ann O’Neill\, founder of VAA\, is a seasoned arts director and curator with over 20 years of experience working with creatives. She is the co-author of the internationally bestselling art business books ‘Good Art Does Not Sell Itself’ and ‘Securing Representation.’ Her passion for global artist outreach and discovering new talent is evident in her curated exhibitions\, which have been showcased on BBC\, Sky News\, and International New York Times. Shirley-Ann leads the Visual Art Open Prize and VAA Artist of the Year Awards\, driving the VAA CPD & mentorship programme with courses on Art Curation & Exhibition Management\, Art Sales Academy\, and Artist Momentum. She has previously served on the selection committee for the Other Art Fair London by Saatchi Art. \nAlex McCann is owner of Altrincham HQ – a social media management and training company based in Cheshire that has worked with 1000s of local business developing their social media strategy. Over the past 10 years Alex has built up an impressive training client list including the BBC\, Manchester City\, NHS\, The Midland Hotel\, University Of Manchester\, Manchester Arndale and many more Each month Altrincham HQ spend 200+ hours per month managing marketing campaigns for businesses so witness Social Media changes in real time and action them. A former journalist\, whose blogs have been read by over half a million readers\, he has also successfully ran an events company putting on 60 events a year which included a 15\,000 capacity arts & music festivals in Manchester. Alex has 400+ LinkedIn testimonials and is ranked number 1 for Social Media Marketing in the UK via independent customer reviews on Freeindex. Altrincham HQ works with businesses across the UK on all aspects of Social Media including Twitter\, LinkedIn\, Facebook\, Instagram and blogging for business success. For more info check out http://www.altrinchamhq.co.uk \nTickets: Free for VAA Premium Members £12.49 for VAA Standard Members – please make sure you login to your VAA account first before securing a place. \n#VAAMasterclass #VideoMarketing #ArtistLife #VAAWorkingArtist #SocialMediaForArtists #UKArtist
URL:https://visual-artists.org/event/masterclass-the-artist-guide-to-video-marketing/
LOCATION:online
CATEGORIES:Events,Masterclass
ATTACH;FMTTYPE=image/jpeg:https://visual-artists.org/wp-content/uploads/2026/04/Masterclass-1-scaled.jpg
END:VEVENT
END:VCALENDAR