BEGIN:VCALENDAR
VERSION:2.0
PRODID:-//Visual Artists Association - ECPv6.15.17.1//NONSGML v1.0//EN
CALSCALE:GREGORIAN
METHOD:PUBLISH
X-WR-CALNAME:Visual Artists Association
X-ORIGINAL-URL:https://visual-artists.org
X-WR-CALDESC:Events for Visual Artists Association
REFRESH-INTERVAL;VALUE=DURATION:PT1H
X-Robots-Tag:noindex
X-PUBLISHED-TTL:PT1H
BEGIN:VTIMEZONE
TZID:Europe/London
BEGIN:DAYLIGHT
TZOFFSETFROM:+0000
TZOFFSETTO:+0100
TZNAME:BST
DTSTART:20250330T010000
END:DAYLIGHT
BEGIN:STANDARD
TZOFFSETFROM:+0100
TZOFFSETTO:+0000
TZNAME:GMT
DTSTART:20251026T010000
END:STANDARD
BEGIN:DAYLIGHT
TZOFFSETFROM:+0000
TZOFFSETTO:+0100
TZNAME:BST
DTSTART:20260329T010000
END:DAYLIGHT
BEGIN:STANDARD
TZOFFSETFROM:+0100
TZOFFSETTO:+0000
TZNAME:GMT
DTSTART:20261025T010000
END:STANDARD
BEGIN:DAYLIGHT
TZOFFSETFROM:+0000
TZOFFSETTO:+0100
TZNAME:BST
DTSTART:20270328T010000
END:DAYLIGHT
BEGIN:STANDARD
TZOFFSETFROM:+0100
TZOFFSETTO:+0000
TZNAME:GMT
DTSTART:20271031T010000
END:STANDARD
END:VTIMEZONE
BEGIN:VEVENT
DTSTART;TZID=Europe/London:20260421T130000
DTEND;TZID=Europe/London:20260421T140000
DTSTAMP:20260421T021332
CREATED:20251216T121653Z
LAST-MODIFIED:20251216T121653Z
UID:10005191-1776776400-1776780000@visual-artists.org
SUMMARY:VAA Members Meeting
DESCRIPTION:VAA Members Meeting21st April | 13:00 GMT | Online \nThe VAA Members Meeting is a valuable opportunity for artists to connect with the wider VAA community and meet members of the VAA team in an open\, supportive setting. These meetings are designed to help new members find their way within the organisation while also giving existing members the chance to refresh their knowledge\, revisit key resources\, and re-engage with current opportunities. \nThis particular meeting will include an open discussion with attending artists focused on: \nAI & the Artist: Opportunities and Ethics \nWe invite artists joining this session to actively engage in the conversation\, sharing perspectives\, questions\, and experiences. As AI continues to influence creative practice\, professional workflows\, and the wider art world\, this discussion aims to create space for thoughtful dialogue around both its potential and its ethical implications – directly informed by artists working today. \nFor any questions about this meeting\, please contact: events@visual-artists.org \nThis meeting is a VAA Member benefit.To join the Visual Artists Association\, visit: https://visual-artists.org/join
URL:https://visual-artists.org/event/vaa-members-meeting/
LOCATION:online
CATEGORIES:Member Events,Members Meetings
ATTACH;FMTTYPE=image/png:https://visual-artists.org/wp-content/uploads/2025/12/Members-Meeting-scaled.png
END:VEVENT
END:VCALENDAR